BEGIN:VCALENDAR
VERSION:2.0
PRODID:-//eventon.com NONSGML v1.0//EN
CALSCALE:GREGORIAN
METHOD:PUBLISH
BEGIN:VEVENT
UID:69e740edc45b4
DTSTAMP:20260421T091837Z
DTSTART:20260501T190000Z
DTEND:20260501T230000Z
LOCATION:
SUMMARY:Light up nuortentapahtuma
DESCRIPTION:Tapahtuma 12-25-vuotiaille. Puhe: Wiljami Selkomaa\nhttps://www
 .ohsrk.fi/events/light-up-nuortentapahtuma/
URL:https://www.ohsrk.fi/events/light-up-nuortentapahtuma/
END:VEVENT
END:VCALENDAR